BEGIN:VCALENDAR
VERSION:2.0
PRODID:-//DREA | Digital Real Estate Association - ECPv6.15.12.2//NONSGML v1.0//EN
CALSCALE:GREGORIAN
METHOD:PUBLISH
X-WR-CALNAME:DREA | Digital Real Estate Association
X-ORIGINAL-URL:https://drea.at
X-WR-CALDESC:Veranstaltungen für DREA | Digital Real Estate Association
REFRESH-INTERVAL;VALUE=DURATION:PT1H
X-Robots-Tag:noindex
X-PUBLISHED-TTL:PT1H
BEGIN:VTIMEZONE
TZID:Europe/Vienna
BEGIN:DAYLIGHT
TZOFFSETFROM:+0100
TZOFFSETTO:+0200
TZNAME:CEST
DTSTART:20250330T010000
END:DAYLIGHT
BEGIN:STANDARD
TZOFFSETFROM:+0200
TZOFFSETTO:+0100
TZNAME:CET
DTSTART:20251026T010000
END:STANDARD
BEGIN:DAYLIGHT
TZOFFSETFROM:+0100
TZOFFSETTO:+0200
TZNAME:CEST
DTSTART:20260329T010000
END:DAYLIGHT
BEGIN:STANDARD
TZOFFSETFROM:+0200
TZOFFSETTO:+0100
TZNAME:CET
DTSTART:20261025T010000
END:STANDARD
BEGIN:DAYLIGHT
TZOFFSETFROM:+0100
TZOFFSETTO:+0200
TZNAME:CEST
DTSTART:20270328T010000
END:DAYLIGHT
BEGIN:STANDARD
TZOFFSETFROM:+0200
TZOFFSETTO:+0100
TZNAME:CET
DTSTART:20271031T010000
END:STANDARD
END:VTIMEZONE
BEGIN:VEVENT
DTSTART;TZID=Europe/Vienna:20260916T083000
DTEND;TZID=Europe/Vienna:20260916T113000
DTSTAMP:20260419T201046
CREATED:20251202T143557Z
LAST-MODIFIED:20260409T073344Z
UID:11266-1789547400-1789558200@drea.at
SUMMARY:"Vom Papier zum Pixel" - Lösungen für moderne Makler:innen
DESCRIPTION:Du bist MaklerIn und fragst Dich schon lange\, wie Du mehr Leichtigkeit in Deinen Arbeitsalltag bringen kannst?\nIn unserem Format „Vom Papier zum Pixel“ zeigen wir Dir vier digitale Lösungen\, die Dich genau dabei unterstützen. \nSchon bald verraten wir mehr über die Tools und Anbieter\, die vor Ort sein werden. \nSei dabei\, lass Dich inspirieren und nimm konkrete Ideen mit\, die Du direkt in Deinem Alltag umsetzen kannst.
URL:https://drea.at/event/vom-papier-zum-pixel-loesungen-fuer-moderne-maklerinnen-2/
LOCATION:ÖVI\, Mariahilfer Straße 116/Stiege 1/Conference Center\, Wien\, 1070\, Österreich
ATTACH;FMTTYPE=image/jpeg:https://drea.at/wp-content/uploads/2025/12/OeVI-Makler-1.jpg
END:VEVENT
END:VCALENDAR