BEGIN:VCALENDAR
VERSION:2.0
PRODID:-//DREA | Digital Real Estate Association - ECPv6.15.12.2//NONSGML v1.0//EN
CALSCALE:GREGORIAN
METHOD:PUBLISH
X-WR-CALNAME:DREA | Digital Real Estate Association
X-ORIGINAL-URL:https://drea.at
X-WR-CALDESC:Veranstaltungen für DREA | Digital Real Estate Association
REFRESH-INTERVAL;VALUE=DURATION:PT1H
X-Robots-Tag:noindex
X-PUBLISHED-TTL:PT1H
BEGIN:VTIMEZONE
TZID:UTC
BEGIN:STANDARD
TZOFFSETFROM:+0000
TZOFFSETTO:+0000
TZNAME:UTC
DTSTART:20230101T000000
END:STANDARD
END:VTIMEZONE
BEGIN:VEVENT
DTSTART;TZID=UTC:20241203T083000
DTEND;TZID=UTC:20241203T113000
DTSTAMP:20260419T235624
CREATED:20240829T094247Z
LAST-MODIFIED:20240829T100908Z
UID:7860-1733214600-1733225400@drea.at
SUMMARY:ÖVI apti Veranstaltung „Vom Papier zum Pixel“ Digitale Lösungen für moderne Sachverständige
DESCRIPTION:Wir freuen uns sehr unsere neue Veranstaltungsreihe gemeinsam mit der ÖVI starten zu können.\nBei der vierten Veranstaltung dreht sich alles um Lösungen für moderne Sachverständige: \nWo: ÖVI\, Mariahilfer Straße 116/Stiege 1/Conference Center\, 1070 Wien\nWann: 03.12.2024\, 8:30 – 11:30 Uhr \nAnmeldung bitte unter ev****@*vi.at. *) Anmeldungen für Sachverständige\, die Mitglieder der apti oder ÖVI sind. \nBei Fragen\, bitte jederzeit auf uns zukommen
URL:https://drea.at/event/oevi-apti-veranstaltung-vom-papier-zum-pixel-digitale-loesungen-fuer-moderne-sachverstaendige/
ATTACH;FMTTYPE=image/jpeg:https://drea.at/wp-content/uploads/2024/08/OeVI-Sachverstaendige.jpg
END:VEVENT
END:VCALENDAR