BEGIN:VCALENDAR
VERSION:2.0
PRODID:-//DREA | Digital Real Estate Association - ECPv6.15.12.2//NONSGML v1.0//EN
CALSCALE:GREGORIAN
METHOD:PUBLISH
X-WR-CALNAME:DREA | Digital Real Estate Association
X-ORIGINAL-URL:https://drea.at
X-WR-CALDESC:Veranstaltungen für DREA | Digital Real Estate Association
REFRESH-INTERVAL;VALUE=DURATION:PT1H
X-Robots-Tag:noindex
X-PUBLISHED-TTL:PT1H
BEGIN:VTIMEZONE
TZID:Europe/Vienna
BEGIN:DAYLIGHT
TZOFFSETFROM:+0100
TZOFFSETTO:+0200
TZNAME:CEST
DTSTART:20240331T010000
END:DAYLIGHT
BEGIN:STANDARD
TZOFFSETFROM:+0200
TZOFFSETTO:+0100
TZNAME:CET
DTSTART:20241027T010000
END:STANDARD
BEGIN:DAYLIGHT
TZOFFSETFROM:+0100
TZOFFSETTO:+0200
TZNAME:CEST
DTSTART:20250330T010000
END:DAYLIGHT
BEGIN:STANDARD
TZOFFSETFROM:+0200
TZOFFSETTO:+0100
TZNAME:CET
DTSTART:20251026T010000
END:STANDARD
BEGIN:DAYLIGHT
TZOFFSETFROM:+0100
TZOFFSETTO:+0200
TZNAME:CEST
DTSTART:20260329T010000
END:DAYLIGHT
BEGIN:STANDARD
TZOFFSETFROM:+0200
TZOFFSETTO:+0100
TZNAME:CET
DTSTART:20261025T010000
END:STANDARD
END:VTIMEZONE
BEGIN:VEVENT
DTSTART;TZID=Europe/Vienna:20250121T083000
DTEND;TZID=Europe/Vienna:20250121T123000
DTSTAMP:20260419T201614
CREATED:20241125T093318Z
LAST-MODIFIED:20241125T093318Z
UID:9203-1737448200-1737462600@drea.at
SUMMARY:Immobilienbrunch: Digitalisierung – Zukunftstrends in der Immobilienbranche // LINZ
DESCRIPTION:Unser erstes Event gemeinsam mit den OÖ Nachrichten findet in Linz statt: \nTreffen Sie innovative Startups\, die die Zukunft der Immobilienwirtschaft gestalten. \nErfahren Sie aus erster Hand\, wie künstliche Intelligenz und digitale Lösungen Prozesse revolutionieren \nund neue Chancen für die Branche öffnen. \nVerpassen Sie nicht diese exklusive Gelegenheit zum Netzwerken und zum Austausch mit Experten und Vorreitern der Immobilienbranche!
URL:https://drea.at/event/immobilienbrunch-digitalisierung-zukunftstrends-in-der-immobilienbranche-linz/
LOCATION:OÖ Nachrichten\, Promenade 23\, Promenaden Galerien\, Linz\, Oberösterreich\, 4010\, Austria
ATTACH;FMTTYPE=image/jpeg:https://drea.at/wp-content/uploads/2024/11/Innovationsfruehstueck-OOe-1.jpg
END:VEVENT
END:VCALENDAR