BEGIN:VCALENDAR
VERSION:2.0
PRODID:-//DREA | Digital Real Estate Association - ECPv6.15.12.2//NONSGML v1.0//EN
CALSCALE:GREGORIAN
METHOD:PUBLISH
X-WR-CALNAME:DREA | Digital Real Estate Association
X-ORIGINAL-URL:https://drea.at
X-WR-CALDESC:Veranstaltungen für DREA | Digital Real Estate Association
REFRESH-INTERVAL;VALUE=DURATION:PT1H
X-Robots-Tag:noindex
X-PUBLISHED-TTL:PT1H
BEGIN:VTIMEZONE
TZID:Europe/Vienna
BEGIN:DAYLIGHT
TZOFFSETFROM:+0100
TZOFFSETTO:+0200
TZNAME:CEST
DTSTART:20250330T010000
END:DAYLIGHT
BEGIN:STANDARD
TZOFFSETFROM:+0200
TZOFFSETTO:+0100
TZNAME:CET
DTSTART:20251026T010000
END:STANDARD
BEGIN:DAYLIGHT
TZOFFSETFROM:+0100
TZOFFSETTO:+0200
TZNAME:CEST
DTSTART:20260329T010000
END:DAYLIGHT
BEGIN:STANDARD
TZOFFSETFROM:+0200
TZOFFSETTO:+0100
TZNAME:CET
DTSTART:20261025T010000
END:STANDARD
BEGIN:DAYLIGHT
TZOFFSETFROM:+0100
TZOFFSETTO:+0200
TZNAME:CEST
DTSTART:20270328T010000
END:DAYLIGHT
BEGIN:STANDARD
TZOFFSETFROM:+0200
TZOFFSETTO:+0100
TZNAME:CET
DTSTART:20271031T010000
END:STANDARD
END:VTIMEZONE
BEGIN:VEVENT
DTSTART;VALUE=DATE:20260429
DTEND;VALUE=DATE:20260430
DTSTAMP:20260420T104020
CREATED:20260209T071441Z
LAST-MODIFIED:20260210T073704Z
UID:11304-1777420800-1777507199@drea.at
SUMMARY:IMMO FutureLab
DESCRIPTION:Die neue Währung: Resilienz\nStrategien für krisenfeste Gebäude und zukunftssichere Investments \nIm Fokus des IMMO FutureLab 2026 steht die Frage\, wie die Immobilienbranche Resilienz als zentrale Währung der Zukunft begreifen kann – angesichts globaler Unsicherheiten\, klimatischer Veränderungen und dynamischer Marktbedingungen. Gesucht werden Strategien\, die Gebäude krisenfest machen und Investments langfristig absichern. \n  \nACHTUNG! DREA Mitglieder bekommen einen Discountcode für die Tickets! Mehr Infos unter im**@**ea.at. 
URL:https://drea.at/event/immo-futurelab/
ATTACH;FMTTYPE=image/jpeg:https://drea.at/wp-content/uploads/2026/02/26_Immofuturelab_Online_Inserat_1080x1080px_03-1.jpg
END:VEVENT
END:VCALENDAR