BEGIN:VCALENDAR
VERSION:2.0
PRODID:-//DREA | Digital Real Estate Association - ECPv6.15.12.2//NONSGML v1.0//EN
CALSCALE:GREGORIAN
METHOD:PUBLISH
X-WR-CALNAME:DREA | Digital Real Estate Association
X-ORIGINAL-URL:https://drea.at
X-WR-CALDESC:Veranstaltungen für DREA | Digital Real Estate Association
REFRESH-INTERVAL;VALUE=DURATION:PT1H
X-Robots-Tag:noindex
X-PUBLISHED-TTL:PT1H
BEGIN:VTIMEZONE
TZID:Europe/Vienna
BEGIN:DAYLIGHT
TZOFFSETFROM:+0100
TZOFFSETTO:+0200
TZNAME:CEST
DTSTART:20250330T010000
END:DAYLIGHT
BEGIN:STANDARD
TZOFFSETFROM:+0200
TZOFFSETTO:+0100
TZNAME:CET
DTSTART:20251026T010000
END:STANDARD
BEGIN:DAYLIGHT
TZOFFSETFROM:+0100
TZOFFSETTO:+0200
TZNAME:CEST
DTSTART:20260329T010000
END:DAYLIGHT
BEGIN:STANDARD
TZOFFSETFROM:+0200
TZOFFSETTO:+0100
TZNAME:CET
DTSTART:20261025T010000
END:STANDARD
BEGIN:DAYLIGHT
TZOFFSETFROM:+0100
TZOFFSETTO:+0200
TZNAME:CEST
DTSTART:20270328T010000
END:DAYLIGHT
BEGIN:STANDARD
TZOFFSETFROM:+0200
TZOFFSETTO:+0100
TZNAME:CET
DTSTART:20271031T010000
END:STANDARD
END:VTIMEZONE
BEGIN:VEVENT
DTSTART;TZID=Europe/Vienna:20260616T173000
DTEND;TZID=Europe/Vienna:20260616T210000
DTSTAMP:20260419T201227
CREATED:20260318T085856Z
LAST-MODIFIED:20260318T090010Z
UID:11369-1781631000-1781643600@drea.at
SUMMARY:DREA Spritzer hosted by eugen!
DESCRIPTION:Unsere letzte Veranstaltung vor dem Sommer findet bei unserem DREA Mitglied eugen! statt. Wir freuen uns auf den gemeinsamen Spritzer und mehr über die Produktneuheiten von eugen! zu erfahren. \nEröffnet den Sommer mit uns gemeinsam! \nAnmeldung können hier erfolgen: DREA Spritzer hostes bei eugen! · Luma
URL:https://drea.at/event/drea-spritzer-hosted-by-eugen/
LOCATION:eugen! Office\, QBC3\, Gertrude-Fröchlich-Sandner-Straße 3\, 5. OG\, Otto Immobilien Office\, Wien\, 1100
ATTACH;FMTTYPE=image/jpeg:https://drea.at/wp-content/uploads/2026/03/Spritzer-June.jpg
END:VEVENT
END:VCALENDAR