BEGIN:VCALENDAR
VERSION:2.0
PRODID:-//DREA | Digital Real Estate Association - ECPv6.15.12.2//NONSGML v1.0//EN
CALSCALE:GREGORIAN
METHOD:PUBLISH
X-WR-CALNAME:DREA | Digital Real Estate Association
X-ORIGINAL-URL:https://drea.at
X-WR-CALDESC:Veranstaltungen für DREA | Digital Real Estate Association
REFRESH-INTERVAL;VALUE=DURATION:PT1H
X-Robots-Tag:noindex
X-PUBLISHED-TTL:PT1H
BEGIN:VTIMEZONE
TZID:UTC
BEGIN:STANDARD
TZOFFSETFROM:+0000
TZOFFSETTO:+0000
TZNAME:UTC
DTSTART:20230101T000000
END:STANDARD
END:VTIMEZONE
BEGIN:VEVENT
DTSTART;VALUE=DATE:20241107
DTEND;VALUE=DATE:20241108
DTSTAMP:20260420T070827
CREATED:20240829T094306Z
LAST-MODIFIED:20240829T104427Z
UID:7870-1730937600-1731023999@drea.at
SUMMARY:DMV Immobilien Investment Kongress
DESCRIPTION:Unter dem Motto „Preparing for Future – Für die Zukunft gerüstet“ soll der 2. Internationale immobilien investment kongress am 7. November im Palais Berg in Wien anhand von Top-Speakern jene Antworten liefern\, die es im Angesicht von hohen Zinsen\, Konjunkturabschwung\, Cybersicherheit und Immobilienfinanzierung braucht\, um sicher durch raue Gewässer navigieren und die gegenwärtige Krise in eine Chance umwandeln zu können.\nJörg Buß\, Vorstand der apti\, ist um 11:40 Uhr ebenfalls Teil des Programmes mit dem Thema: “Krisenbewältigung im Wohnbau: Innovative Lösungen für kosteneffizienten Wohnraum”. \nMehr Infos zum Programm findet ihr online. \nNutzt die Gelegenheit und unseren Partnerbonus bis 31.8. Mehr Infos bei im**@**ti.at \n 
URL:https://drea.at/event/dmv-immobilien-investment-kongress/
ATTACH;FMTTYPE=image/jpeg:https://drea.at/wp-content/uploads/2024/08/DMV_1600x900px_klein_partner.jpg
END:VEVENT
END:VCALENDAR