BEGIN:VCALENDAR
VERSION:2.0
PRODID:-//DREA | Digital Real Estate Association - ECPv6.15.12.2//NONSGML v1.0//EN
CALSCALE:GREGORIAN
METHOD:PUBLISH
X-WR-CALNAME:DREA | Digital Real Estate Association
X-ORIGINAL-URL:https://drea.at
X-WR-CALDESC:Veranstaltungen für DREA | Digital Real Estate Association
REFRESH-INTERVAL;VALUE=DURATION:PT1H
X-Robots-Tag:noindex
X-PUBLISHED-TTL:PT1H
BEGIN:VTIMEZONE
TZID:UTC
BEGIN:STANDARD
TZOFFSETFROM:+0000
TZOFFSETTO:+0000
TZNAME:UTC
DTSTART:20230101T000000
END:STANDARD
END:VTIMEZONE
BEGIN:VEVENT
DTSTART;TZID=UTC:20241022T083000
DTEND;TZID=UTC:20241022T110000
DTSTAMP:20260420T085600
CREATED:20240829T094306Z
LAST-MODIFIED:20250127T104129Z
UID:7871-1729585800-1729594800@drea.at
SUMMARY:Corporate Breakfast hosted by STRABAG Real Estate GmbH
DESCRIPTION:Liebe apti Corporate Mitglieder\,\nWir laden Sie herzlich zu unserem nächsten Corporate Breakfast am 22. Oktober von 8:30 bis 11:00 Uhr ein. \n——————————————————————– \nAGENDA: \n8:30 – 09:00 Ankunft und Networking mit Kaffee und Croissants.\n9:00 – 10:30 Begrüßung des apti-Vorstands und Präsentationen von Corporate – Startup Projekten\, Learnings daraus und zukünftige gemeinsame Visionen.\nWir schließen mit einer gemeinsame Frage- und Antwortrunde/Diskussion ab. \nMit dabei: \n\nSTRABAG Real Estate GmbH\ntba
URL:https://drea.at/event/corporate-breakfast-hosted-by-strabag-real-estate-gmbh/
LOCATION:STRABAG REAL ESTATE GmbH\, Sky Stage im Tech Gate\, Donau-City-Straße 1\, 1220\, Österreich
ATTACH;FMTTYPE=image/jpeg:https://drea.at/wp-content/uploads/2024/08/Breakfast-22.10.jpg
END:VEVENT
END:VCALENDAR