BEGIN:VCALENDAR
VERSION:2.0
PRODID:-//DREA | Digital Real Estate Association - ECPv6.15.12.2//NONSGML v1.0//EN
CALSCALE:GREGORIAN
METHOD:PUBLISH
X-WR-CALNAME:DREA | Digital Real Estate Association
X-ORIGINAL-URL:https://drea.at
X-WR-CALDESC:Veranstaltungen für DREA | Digital Real Estate Association
REFRESH-INTERVAL;VALUE=DURATION:PT1H
X-Robots-Tag:noindex
X-PUBLISHED-TTL:PT1H
BEGIN:VTIMEZONE
TZID:Europe/Vienna
BEGIN:DAYLIGHT
TZOFFSETFROM:+0100
TZOFFSETTO:+0200
TZNAME:CEST
DTSTART:20240331T010000
END:DAYLIGHT
BEGIN:STANDARD
TZOFFSETFROM:+0200
TZOFFSETTO:+0100
TZNAME:CET
DTSTART:20241027T010000
END:STANDARD
BEGIN:DAYLIGHT
TZOFFSETFROM:+0100
TZOFFSETTO:+0200
TZNAME:CEST
DTSTART:20250330T010000
END:DAYLIGHT
BEGIN:STANDARD
TZOFFSETFROM:+0200
TZOFFSETTO:+0100
TZNAME:CET
DTSTART:20251026T010000
END:STANDARD
BEGIN:DAYLIGHT
TZOFFSETFROM:+0100
TZOFFSETTO:+0200
TZNAME:CEST
DTSTART:20260329T010000
END:DAYLIGHT
BEGIN:STANDARD
TZOFFSETFROM:+0200
TZOFFSETTO:+0100
TZNAME:CET
DTSTART:20261025T010000
END:STANDARD
END:VTIMEZONE
BEGIN:VEVENT
DTSTART;TZID=Europe/Vienna:20250315T100000
DTEND;TZID=Europe/Vienna:20250316T170000
DTSTAMP:20260419T153054
CREATED:20241205T082004Z
LAST-MODIFIED:20241205T084050Z
UID:9284-1742032800-1742144400@drea.at
SUMMARY:DREA @ WIM / Digital Real Estate Lounge
DESCRIPTION:PropTech Events hostet 2025 zum zweiten Mal die Digital Real Estate Lounge als Partner auf der Wiener Immobilienmesse vom 15.-16. März 2025\, zusammen mit der Austrian PropTech Initiative. \nAuf der Wiener Immobilien Messe präsentiert sich jährlich die gesamte Bandbreite der Branche. Sie ist damit ein Fixtermin für alle\, die sich für Immobilien interessieren – und bringt KäuferInnen\, VerkäuferInnen und Investoren zusammen. Von den besten Immobilienunternehmen mit spannenden Neubauprojekten\, RechtsspezialistInnen\, FinanziererInnen und einem umfassenden Serviceangebot rund um den An- und Verkauf von Immobilien\, sind alle maßgeblichen Player vertreten. \nVor Ort kann man sich in der Digital Real Estate Lounge auch heuer wieder über Lösungen und neue Innovationen für die Immobilienbranche informieren. Also kommt vorbei und lasst euch inspirieren!
URL:https://drea.at/event/apti-wim-digital-real-estate-lounge/
LOCATION:Congress Center Wien\, Messeplatz 1\, Wien\, Wien\, 1021\, Austria
ATTACH;FMTTYPE=image/jpeg:https://drea.at/wp-content/uploads/2024/12/Update-September-2.jpg
END:VEVENT
END:VCALENDAR