BEGIN:VCALENDAR
VERSION:2.0
PRODID:-//DREA | Digital Real Estate Association - ECPv6.15.12.2//NONSGML v1.0//EN
CALSCALE:GREGORIAN
METHOD:PUBLISH
X-WR-CALNAME:DREA | Digital Real Estate Association
X-ORIGINAL-URL:https://drea.at
X-WR-CALDESC:Veranstaltungen für DREA | Digital Real Estate Association
REFRESH-INTERVAL;VALUE=DURATION:PT1H
X-Robots-Tag:noindex
X-PUBLISHED-TTL:PT1H
BEGIN:VTIMEZONE
TZID:UTC
BEGIN:STANDARD
TZOFFSETFROM:+0000
TZOFFSETTO:+0000
TZNAME:UTC
DTSTART:20230101T000000
END:STANDARD
END:VTIMEZONE
BEGIN:VEVENT
DTSTART;VALUE=DATE:20241126
DTEND;VALUE=DATE:20241127
DTSTAMP:20260420T014055
CREATED:20240829T094253Z
LAST-MODIFIED:20240829T104300Z
UID:7866-1732579200-1732665599@drea.at
SUMMARY:apti @ Bautage Loipersdorf
DESCRIPTION:Wir sind dabei bei den österreichen Bautagen 2024 und dürfen auch wieder ein Abendprogramm zum Thema „Lösungen für den Bestand“ mitgestalten.\nMehr Infos folgen …
URL:https://drea.at/event/apti-bautage-loipersdorf/
ATTACH;FMTTYPE=image/jpeg:https://drea.at/wp-content/uploads/2024/08/Bautage.jpg
END:VEVENT
END:VCALENDAR