BEGIN:VCALENDAR
VERSION:2.0
PRODID:-//DREA | Digital Real Estate Association - ECPv6.15.12.2//NONSGML v1.0//EN
CALSCALE:GREGORIAN
METHOD:PUBLISH
X-WR-CALNAME:DREA | Digital Real Estate Association
X-ORIGINAL-URL:https://drea.at/en/
X-WR-CALDESC:Events for DREA | Digital Real Estate Association
REFRESH-INTERVAL;VALUE=DURATION:PT1H
X-Robots-Tag:noindex
X-PUBLISHED-TTL:PT1H
BEGIN:VTIMEZONE
TZID:Europe/Vienna
BEGIN:DAYLIGHT
TZOFFSETFROM:+0100
TZOFFSETTO:+0200
TZNAME:CEST
DTSTART:20240331T010000
END:DAYLIGHT
BEGIN:STANDARD
TZOFFSETFROM:+0200
TZOFFSETTO:+0100
TZNAME:CET
DTSTART:20241027T010000
END:STANDARD
BEGIN:DAYLIGHT
TZOFFSETFROM:+0100
TZOFFSETTO:+0200
TZNAME:CEST
DTSTART:20250330T010000
END:DAYLIGHT
BEGIN:STANDARD
TZOFFSETFROM:+0200
TZOFFSETTO:+0100
TZNAME:CET
DTSTART:20251026T010000
END:STANDARD
BEGIN:DAYLIGHT
TZOFFSETFROM:+0100
TZOFFSETTO:+0200
TZNAME:CEST
DTSTART:20260329T010000
END:DAYLIGHT
BEGIN:STANDARD
TZOFFSETFROM:+0200
TZOFFSETTO:+0100
TZNAME:CET
DTSTART:20261025T010000
END:STANDARD
END:VTIMEZONE
BEGIN:VEVENT
DTSTART;TZID=Europe/Vienna:20250424T160000
DTEND;TZID=Europe/Vienna:20250424T210000
DTSTAMP:20260419T135132
CREATED:20241205T083033Z
LAST-MODIFIED:20250217T085507Z
UID:9298-1745510400-1745528400@drea.at
SUMMARY:Future Real Estate: Digital. Sustainable. Transformative. in cooperation with ÖGNI
DESCRIPTION:Future Real Estate: Digital. Sustainable. Transformative.\nDigital innovations\, sustainable approaches and transformative concepts are shaping the construction and real estate industry. At another event organized by DREA (formerly apti) and ÖGNI on 24.04.2025 from 4 pm\, leading experts will discuss how new technologies and sustainable strategies are revolutionizing the market.  \nYou can look forward to exciting impulses from\, among others\, Michael Haugeneder (ATP sustain) on the working group results of the ÖGNI symposium on digitalization in the real estate industry and Peter Ulm (allora) on the innovative district concept “Zukunftsanker ” – a model for the urban development of tomorrow. \nFurther speakers will be announced shortly. \nYou can also look forward to presentations by solution providers on their future-oriented products. \nHeimo Rollett will guide you through the afternoon. \nAfterwards\, we cordially invite you to network and exchange ideas with industry colleagues and experts over drinks and finger food. \nMany thanks to our host TPA Steuerberatung. \nWe are looking forward to an exciting event! \nRegistration for DREA & ÖGNI members –> https://www.eventbrite.at/e/future-real-estate-digital-nachhaltig-transformativ-tickets-1234556805639?aff=oddtdtcreator
URL:https://drea.at/en/event/save-the-date-apti-oegni-event/
LOCATION:tpa\, Wiedner Gürtel 13\, Turm 24\, Wien\, 1100\, Österreich
ATTACH;FMTTYPE=image/jpeg:https://drea.at/wp-content/uploads/2024/12/FutureRealEstate-Eventankuendigung.jpg
END:VEVENT
END:VCALENDAR