BEGIN:VCALENDAR
VERSION:2.0
PRODID:-//DREA | Digital Real Estate Association - ECPv6.15.12.2//NONSGML v1.0//EN
CALSCALE:GREGORIAN
METHOD:PUBLISH
X-WR-CALNAME:DREA | Digital Real Estate Association
X-ORIGINAL-URL:https://drea.at/en/
X-WR-CALDESC:Events for DREA | Digital Real Estate Association
REFRESH-INTERVAL;VALUE=DURATION:PT1H
X-Robots-Tag:noindex
X-PUBLISHED-TTL:PT1H
BEGIN:VTIMEZONE
TZID:UTC
BEGIN:STANDARD
TZOFFSETFROM:+0000
TZOFFSETTO:+0000
TZNAME:UTC
DTSTART:20230101T000000
END:STANDARD
END:VTIMEZONE
BEGIN:VEVENT
DTSTART;TZID=UTC:20241203T083000
DTEND;TZID=UTC:20241203T113000
DTSTAMP:20260420T013957
CREATED:20240829T094247Z
LAST-MODIFIED:20240829T094247Z
UID:10333-1733214600-1733225400@drea.at
SUMMARY:ÖVI apti event "From paper to pixels" Digital solutions for modern experts
DESCRIPTION:We are very pleased to launch our new event series together with the ÖVI.\nThe fourth event is all about solutions for modern experts: Where: ÖVI\, Mariahilfer Straße 116/Stiege 1/Conference Center\, 1070 Vienna When: 03.12.2024\, 8:30 – 11:30 a.m. Please register at ev****@*vi.at.*) Registration for experts who are members of apti or ÖVI. If you have any questions\, please contact us at any time
URL:https://drea.at/en/event/oevi-apti-event-from-paper-to-pixels-digital-solutions-for-modern-experts/
ATTACH;FMTTYPE=image/jpeg:https://drea.at/wp-content/uploads/2024/08/OeVI-Sachverstaendige.jpg
END:VEVENT
END:VCALENDAR