BEGIN:VCALENDAR
VERSION:2.0
PRODID:-//DREA | Digital Real Estate Association - ECPv6.15.12.2//NONSGML v1.0//EN
CALSCALE:GREGORIAN
METHOD:PUBLISH
X-WR-CALNAME:DREA | Digital Real Estate Association
X-ORIGINAL-URL:https://drea.at/en/
X-WR-CALDESC:Events for DREA | Digital Real Estate Association
REFRESH-INTERVAL;VALUE=DURATION:PT1H
X-Robots-Tag:noindex
X-PUBLISHED-TTL:PT1H
BEGIN:VTIMEZONE
TZID:Europe/Vienna
BEGIN:DAYLIGHT
TZOFFSETFROM:+0100
TZOFFSETTO:+0200
TZNAME:CEST
DTSTART:20230326T010000
END:DAYLIGHT
BEGIN:STANDARD
TZOFFSETFROM:+0200
TZOFFSETTO:+0100
TZNAME:CET
DTSTART:20231029T010000
END:STANDARD
BEGIN:DAYLIGHT
TZOFFSETFROM:+0100
TZOFFSETTO:+0200
TZNAME:CEST
DTSTART:20240331T010000
END:DAYLIGHT
BEGIN:STANDARD
TZOFFSETFROM:+0200
TZOFFSETTO:+0100
TZNAME:CET
DTSTART:20241027T010000
END:STANDARD
BEGIN:DAYLIGHT
TZOFFSETFROM:+0100
TZOFFSETTO:+0200
TZNAME:CEST
DTSTART:20250330T010000
END:DAYLIGHT
BEGIN:STANDARD
TZOFFSETFROM:+0200
TZOFFSETTO:+0100
TZNAME:CET
DTSTART:20251026T010000
END:STANDARD
END:VTIMEZONE
BEGIN:VEVENT
DTSTART;TZID=Europe/Vienna:20241203T083000
DTEND;TZID=Europe/Vienna:20241203T113000
DTSTAMP:20260420T011451
CREATED:20250107T144024Z
LAST-MODIFIED:20250107T144024Z
UID:10332-1733214600-1733225400@drea.at
SUMMARY:ÖVI apti event "From paper to pixels" Digital solutions for modern building surveyor
DESCRIPTION:We are delighted to be able to launch our new series of events together with the ÖVI. \nThe fourth event is all about solutions for modern experts: \nWhere: ÖVI\, Mariahilfer Straße 116/Stiege 1/Conference Centre\, 1070 Vienna\nWhen: 03.12.2024\, 8:30 – 11:30 am \nPlease register at ev****@*vi.at. *) Registrations for building surveyor who are members of the apti or ÖVI. \nIf you have any questions\, please contact us at any time
URL:https://drea.at/en/event/oevi-apti-event-from-paper-to-pixels-digital-solutions-for-modern-building-surveyor/
END:VEVENT
END:VCALENDAR