BEGIN:VCALENDAR
VERSION:2.0
PRODID:-//DREA | Digital Real Estate Association - ECPv6.15.12.2//NONSGML v1.0//EN
CALSCALE:GREGORIAN
METHOD:PUBLISH
X-WR-CALNAME:DREA | Digital Real Estate Association
X-ORIGINAL-URL:https://drea.at/en/
X-WR-CALDESC:Events for DREA | Digital Real Estate Association
REFRESH-INTERVAL;VALUE=DURATION:PT1H
X-Robots-Tag:noindex
X-PUBLISHED-TTL:PT1H
BEGIN:VTIMEZONE
TZID:Europe/Vienna
BEGIN:DAYLIGHT
TZOFFSETFROM:+0100
TZOFFSETTO:+0200
TZNAME:CEST
DTSTART:20240331T010000
END:DAYLIGHT
BEGIN:STANDARD
TZOFFSETFROM:+0200
TZOFFSETTO:+0100
TZNAME:CET
DTSTART:20241027T010000
END:STANDARD
BEGIN:DAYLIGHT
TZOFFSETFROM:+0100
TZOFFSETTO:+0200
TZNAME:CEST
DTSTART:20250330T010000
END:DAYLIGHT
BEGIN:STANDARD
TZOFFSETFROM:+0200
TZOFFSETTO:+0100
TZNAME:CET
DTSTART:20251026T010000
END:STANDARD
BEGIN:DAYLIGHT
TZOFFSETFROM:+0100
TZOFFSETTO:+0200
TZNAME:CEST
DTSTART:20260329T010000
END:DAYLIGHT
BEGIN:STANDARD
TZOFFSETFROM:+0200
TZOFFSETTO:+0100
TZNAME:CET
DTSTART:20261025T010000
END:STANDARD
END:VTIMEZONE
BEGIN:VEVENT
DTSTART;TZID=Europe/Vienna:20250320T083000
DTEND;TZID=Europe/Vienna:20250320T113000
DTSTAMP:20260419T151815
CREATED:20250109T135819Z
LAST-MODIFIED:20250306T113637Z
UID:10331-1742459400-1742470200@drea.at
SUMMARY:"From paper to pixels" - digital solutions for modern property managers
DESCRIPTION:📢 𝗩𝗼𝗺 𝗣𝗮𝗽𝗶𝗲𝗿 𝘇𝘂𝗺 𝗣𝗶𝘅𝗲𝗹:\n𝗗𝗶𝗴𝗶𝘁𝗮𝗹𝗲 𝗟ö𝘀𝘂𝗻𝗴𝗲𝗻 𝗳ü𝗿 𝗺𝗼𝗱𝗲𝗿𝗻𝗲 𝗛𝗮𝘂𝘀𝘃𝗲𝗿𝘄𝗮𝗹𝘁𝘂𝗻𝗴𝗲𝗻 \nWant to find out more about digital solutions for property managers? Then secure the last places and join us at our Business Breakfast! 🏢💡   \nTogether with ÖVI – Austrian Real Estate Association\, we invite you to an inspiring morning in which practical solutions will be presented. \nTopic: Digitalization in property management – efficiency\, automation & innovative tools \nFormat: Short presentations & roundtables for in-depth discussions on the solutions from Cambioo\, Captured Knowledge KI Hausverwaltung\, CP Solutions GmbH/Domizil+\, SINGU \nModeration: Jörg Buß & Andreas Karg \n🔹 Date: March 20\, 2025 / 8:30 – 11:30 a.m.\n🔹 Location: ÖVI Conference Center\, Mariahilfer Straße 116/2.OG/2\, 1070 Vienna \nRegistration: (free of charge for property managers who are DREA or ÖVI members) 👉ev****@*vi.at
URL:https://drea.at/en/event/from-paper-to-pixels-digital-solutions-for-modern-property-managers/
LOCATION:ÖVI\, Mariahilfer Straße 116/Stiege 1/Conference Center\, Wien\, 1070\, Österreich
ATTACH;FMTTYPE=image/jpeg:https://drea.at/wp-content/uploads/2025/01/OeVI-Hausverwalter-1.jpg
END:VEVENT
END:VCALENDAR