BEGIN:VCALENDAR
VERSION:2.0
PRODID:-//DREA | Digital Real Estate Association - ECPv6.15.12.2//NONSGML v1.0//EN
CALSCALE:GREGORIAN
METHOD:PUBLISH
X-WR-CALNAME:DREA | Digital Real Estate Association
X-ORIGINAL-URL:https://drea.at/en/
X-WR-CALDESC:Events for DREA | Digital Real Estate Association
REFRESH-INTERVAL;VALUE=DURATION:PT1H
X-Robots-Tag:noindex
X-PUBLISHED-TTL:PT1H
BEGIN:VTIMEZONE
TZID:Europe/Vienna
BEGIN:DAYLIGHT
TZOFFSETFROM:+0100
TZOFFSETTO:+0200
TZNAME:CEST
DTSTART:20240331T010000
END:DAYLIGHT
BEGIN:STANDARD
TZOFFSETFROM:+0200
TZOFFSETTO:+0100
TZNAME:CET
DTSTART:20241027T010000
END:STANDARD
BEGIN:DAYLIGHT
TZOFFSETFROM:+0100
TZOFFSETTO:+0200
TZNAME:CEST
DTSTART:20250330T010000
END:DAYLIGHT
BEGIN:STANDARD
TZOFFSETFROM:+0200
TZOFFSETTO:+0100
TZNAME:CET
DTSTART:20251026T010000
END:STANDARD
BEGIN:DAYLIGHT
TZOFFSETFROM:+0100
TZOFFSETTO:+0200
TZNAME:CEST
DTSTART:20260329T010000
END:DAYLIGHT
BEGIN:STANDARD
TZOFFSETFROM:+0200
TZOFFSETTO:+0100
TZNAME:CET
DTSTART:20261025T010000
END:STANDARD
END:VTIMEZONE
BEGIN:VEVENT
DTSTART;TZID=Europe/Vienna:20251202T083000
DTEND;TZID=Europe/Vienna:20251202T113000
DTSTAMP:20260420T014713
CREATED:20250423T065028Z
LAST-MODIFIED:20251127T143743Z
UID:10953-1764664200-1764675000@drea.at
SUMMARY:CANCELLED - "From paper to pixel" Digital solutions for modern experts & civil engineers (DREA & ÖVI)
DESCRIPTION:Unfortunately\, the event will not take place. We will keep you updated as to whether the event will be rescheduled.  \n—————————————- \nWe are delighted to be able to continue this series of events together with the ÖVI.\nThis event is all about solutions for modern surveyors and civil engineers. \nIncluded as a solution: \ndataPad \nDroneSense GmbH \nubicube GmbH \nDataScience Service GmbH \nWhere: ÖVI\, Mariahilfer Straße 116/Stiege 1/Conference Center\, 1070 Vienna \nPlease register at ev****@*vi.at.*) Registration for experts who are members of DREA or ÖVI.  \nIf you have any questions\, please contact us at any time
URL:https://drea.at/en/event/from-paper-to-pixels-digital-solutions-for-modern-experts-drea-oevi/
LOCATION:ÖVI\, Mariahilfer Straße 116/Stiege 1/Conference Center\, Wien\, 1070\, Österreich
ATTACH;FMTTYPE=image/jpeg:https://drea.at/wp-content/uploads/2025/04/OeVI-Sachverstaendige-3.jpg
END:VEVENT
END:VCALENDAR