BEGIN:VCALENDAR
VERSION:2.0
PRODID:-//DREA | Digital Real Estate Association - ECPv6.15.12.2//NONSGML v1.0//EN
CALSCALE:GREGORIAN
METHOD:PUBLISH
X-WR-CALNAME:DREA | Digital Real Estate Association
X-ORIGINAL-URL:https://drea.at/en/
X-WR-CALDESC:Events for DREA | Digital Real Estate Association
REFRESH-INTERVAL;VALUE=DURATION:PT1H
X-Robots-Tag:noindex
X-PUBLISHED-TTL:PT1H
BEGIN:VTIMEZONE
TZID:Europe/Vienna
BEGIN:DAYLIGHT
TZOFFSETFROM:+0100
TZOFFSETTO:+0200
TZNAME:CEST
DTSTART:20250330T010000
END:DAYLIGHT
BEGIN:STANDARD
TZOFFSETFROM:+0200
TZOFFSETTO:+0100
TZNAME:CET
DTSTART:20251026T010000
END:STANDARD
BEGIN:DAYLIGHT
TZOFFSETFROM:+0100
TZOFFSETTO:+0200
TZNAME:CEST
DTSTART:20260329T010000
END:DAYLIGHT
BEGIN:STANDARD
TZOFFSETFROM:+0200
TZOFFSETTO:+0100
TZNAME:CET
DTSTART:20261025T010000
END:STANDARD
BEGIN:DAYLIGHT
TZOFFSETFROM:+0100
TZOFFSETTO:+0200
TZNAME:CEST
DTSTART:20270328T010000
END:DAYLIGHT
BEGIN:STANDARD
TZOFFSETFROM:+0200
TZOFFSETTO:+0100
TZNAME:CET
DTSTART:20271031T010000
END:STANDARD
END:VTIMEZONE
BEGIN:VEVENT
DTSTART;TZID=Europe/Vienna:20260219T083000
DTEND;TZID=Europe/Vienna:20260219T113000
DTSTAMP:20260419T184439
CREATED:20251202T142704Z
LAST-MODIFIED:20260113T121632Z
UID:11253-1771489800-1771500600@drea.at
SUMMARY:"From paper to pixel" - solutions for experts & civil engineers
DESCRIPTION:“𝗩𝗼𝗺 𝗣𝗮𝗽𝗶𝗲𝗿 𝘇𝘂𝗺 𝗣𝗶𝘅𝗲𝗹” – 𝗱𝗶𝗴𝗶𝘁𝗮𝗹𝗲 𝗟ö𝘀𝘂𝗻𝗴𝗲𝗻 𝗳ü𝗿 𝗦𝗮𝗰𝗵𝘃𝗲𝗿𝘀𝘁ä𝗻𝗱𝗶𝗴𝗲 & 𝗭𝗶𝘃𝗶𝗹𝘁𝗲𝗰𝗵𝗻𝗶𝗸𝗲𝗿𝗜𝗻𝗻𝗲𝗻 \nWir holen unser in 2025 verschobenes Event nach!!! Im Mittelpunkt stehen diesmal digitale Datenerfassung\, KI-gestützte Analyse\, moderne Drohnentechnologie sowie effiziente Plattformlösungen – also genau jene Tools\, die Sachverständige & ZiviltechnikerInnen bei Gutachten\, Dokumentation und Projektabwicklung zukunftsfit unterstützen. \nMit dabei sind folgende Lösungen: \n• dataPad GmbH\n• DataScience Service GmbH\n• DroneSense GmbH\n• ubicube GmbH \n📍ÖVI\, Mariahilfer Straße 116 / Stiege 1 / Conference Center\, 1070 Wien\n📩 Anmeldung: ev****@*vi.at\n(Teilnahme für Sachverständige & ZiviltechnikerInnen\, die Mitglieder der DREA oder des ÖVI sind.) \nBei Fragen stehen wir jederzeit gerne zur Verfügung – wir freuen uns auf einen spannenden Austausch!
URL:https://drea.at/en/event/from-paper-to-pixel-solutions-for-experts-civil-engineers/
LOCATION:ÖVI\, Mariahilfer Straße 116/Stiege 1/Conference Center\, Wien\, 1070\, Österreich
ATTACH;FMTTYPE=image/jpeg:https://drea.at/wp-content/uploads/2025/12/OeVI-Sachverstaendige-1.jpg
END:VEVENT
END:VCALENDAR