BEGIN:VCALENDAR
VERSION:2.0
PRODID:-//DREA | Digital Real Estate Association - ECPv6.15.12.2//NONSGML v1.0//EN
CALSCALE:GREGORIAN
METHOD:PUBLISH
X-WR-CALNAME:DREA | Digital Real Estate Association
X-ORIGINAL-URL:https://drea.at/en/
X-WR-CALDESC:Events for DREA | Digital Real Estate Association
REFRESH-INTERVAL;VALUE=DURATION:PT1H
X-Robots-Tag:noindex
X-PUBLISHED-TTL:PT1H
BEGIN:VTIMEZONE
TZID:Europe/Vienna
BEGIN:DAYLIGHT
TZOFFSETFROM:+0100
TZOFFSETTO:+0200
TZNAME:CEST
DTSTART:20240331T010000
END:DAYLIGHT
BEGIN:STANDARD
TZOFFSETFROM:+0200
TZOFFSETTO:+0100
TZNAME:CET
DTSTART:20241027T010000
END:STANDARD
BEGIN:DAYLIGHT
TZOFFSETFROM:+0100
TZOFFSETTO:+0200
TZNAME:CEST
DTSTART:20250330T010000
END:DAYLIGHT
BEGIN:STANDARD
TZOFFSETFROM:+0200
TZOFFSETTO:+0100
TZNAME:CET
DTSTART:20251026T010000
END:STANDARD
BEGIN:DAYLIGHT
TZOFFSETFROM:+0100
TZOFFSETTO:+0200
TZNAME:CEST
DTSTART:20260329T010000
END:DAYLIGHT
BEGIN:STANDARD
TZOFFSETFROM:+0200
TZOFFSETTO:+0100
TZNAME:CET
DTSTART:20261025T010000
END:STANDARD
END:VTIMEZONE
BEGIN:VEVENT
DTSTART;TZID=Europe/Vienna:20250109T160000
DTEND;TZID=Europe/Vienna:20250109T190000
DTSTAMP:20260419T232303
CREATED:20241125T092930Z
LAST-MODIFIED:20241125T092930Z
UID:9218-1736438400-1736449200@drea.at
SUMMARY:Extraordinary General Meeting & Get-together
DESCRIPTION:Dear apti members\, We would like to invite you to an early general meeting. Participation is possible in person at our office or via Teams. Agenda will be sent out promptly via e-mail. We kindly ask you to submit motions by 19.12.2024.\nAfter the General Assembly we invite you to snacks & drinks and look forward to exchanging ideas with you. If you have not received the invitation\, please contact im**@**ea.at
URL:https://drea.at/en/event/extraordinary-general-meeting-get-together/
LOCATION:drea office\, Neubaugasse 64-66/2\, Wien\, Wien\, 1070\, Austria
ATTACH;FMTTYPE=image/jpeg:https://drea.at/wp-content/uploads/2024/11/General-meeting-2.jpg
END:VEVENT
END:VCALENDAR