BEGIN:VCALENDAR
VERSION:2.0
PRODID:-//DREA | Digital Real Estate Association - ECPv6.15.12.2//NONSGML v1.0//EN
CALSCALE:GREGORIAN
METHOD:PUBLISH
X-WR-CALNAME:DREA | Digital Real Estate Association
X-ORIGINAL-URL:https://drea.at/en/
X-WR-CALDESC:Events for DREA | Digital Real Estate Association
REFRESH-INTERVAL;VALUE=DURATION:PT1H
X-Robots-Tag:noindex
X-PUBLISHED-TTL:PT1H
BEGIN:VTIMEZONE
TZID:Europe/Vienna
BEGIN:DAYLIGHT
TZOFFSETFROM:+0100
TZOFFSETTO:+0200
TZNAME:CEST
DTSTART:20250330T010000
END:DAYLIGHT
BEGIN:STANDARD
TZOFFSETFROM:+0200
TZOFFSETTO:+0100
TZNAME:CET
DTSTART:20251026T010000
END:STANDARD
BEGIN:DAYLIGHT
TZOFFSETFROM:+0100
TZOFFSETTO:+0200
TZNAME:CEST
DTSTART:20260329T010000
END:DAYLIGHT
BEGIN:STANDARD
TZOFFSETFROM:+0200
TZOFFSETTO:+0100
TZNAME:CET
DTSTART:20261025T010000
END:STANDARD
BEGIN:DAYLIGHT
TZOFFSETFROM:+0100
TZOFFSETTO:+0200
TZNAME:CEST
DTSTART:20270328T010000
END:DAYLIGHT
BEGIN:STANDARD
TZOFFSETFROM:+0200
TZOFFSETTO:+0100
TZNAME:CET
DTSTART:20271031T010000
END:STANDARD
END:VTIMEZONE
BEGIN:VEVENT
DTSTART;TZID=Europe/Vienna:20260420T170000
DTEND;TZID=Europe/Vienna:20260420T183000
DTSTAMP:20260419T155016
CREATED:20251202T091848Z
LAST-MODIFIED:20251202T091848Z
UID:11248-1776704400-1776709800@drea.at
SUMMARY:DREA General Assembly (ONLINE)
DESCRIPTION:Dear DREA members\, \nAs every year\, we are delighted to give you an update on our association. \nThe Annual General Meeting will take place online. The invitations have already been sent to all members.  \nIf you have not received these\, please get in touch with us (im**@**ea.at)
URL:https://drea.at/en/event/drea-general-assembly-online/
LOCATION:Online
ATTACH;FMTTYPE=image/jpeg:https://drea.at/wp-content/uploads/2025/12/General-meeting.jpg
END:VEVENT
END:VCALENDAR