BEGIN:VCALENDAR
VERSION:2.0
PRODID:-//DREA | Digital Real Estate Association - ECPv6.15.12.2//NONSGML v1.0//EN
CALSCALE:GREGORIAN
METHOD:PUBLISH
X-WR-CALNAME:DREA | Digital Real Estate Association
X-ORIGINAL-URL:https://drea.at/en/
X-WR-CALDESC:Events for DREA | Digital Real Estate Association
REFRESH-INTERVAL;VALUE=DURATION:PT1H
X-Robots-Tag:noindex
X-PUBLISHED-TTL:PT1H
BEGIN:VTIMEZONE
TZID:UTC
BEGIN:STANDARD
TZOFFSETFROM:+0000
TZOFFSETTO:+0000
TZNAME:UTC
DTSTART:20230101T000000
END:STANDARD
END:VTIMEZONE
BEGIN:VEVENT
DTSTART;VALUE=DATE:20241107
DTEND;VALUE=DATE:20241108
DTSTAMP:20260420T080040
CREATED:20240829T094306Z
LAST-MODIFIED:20240829T094306Z
UID:10339-1730937600-1731023999@drea.at
SUMMARY:DMV Real Estate Investment Congress
DESCRIPTION:Under the motto “Preparing for Future – Equipped for the Future”\, the 2nd International Real Estate Investment Congress on November 7 at Palais Berg in Vienna will use top speakers to provide the answers needed to navigate safely through rough waters and turn the current crisis into an opportunity in the face of high interest rates\, economic downturn\, cyber security and real estate financing.\nJörg Buß\, CEO of apti\, will also be part of the program at 11:40 a.m. with the topic: “Crisis management in residential construction: Innovative solutions for cost-efficient living space”. You can find more information about the program online. Take advantage of the opportunity and our partner bonus until 31.8. More information at im**@**ti.at \n 
URL:https://drea.at/en/event/dmv-real-estate-investment-congress/
ATTACH;FMTTYPE=image/jpeg:https://drea.at/wp-content/uploads/2024/08/DMV_1600x900px_klein_partner.jpg
END:VEVENT
END:VCALENDAR