BEGIN:VCALENDAR
VERSION:2.0
PRODID:-//DREA | Digital Real Estate Association - ECPv6.15.12.2//NONSGML v1.0//EN
CALSCALE:GREGORIAN
METHOD:PUBLISH
X-WR-CALNAME:DREA | Digital Real Estate Association
X-ORIGINAL-URL:https://drea.at/en/
X-WR-CALDESC:Events for DREA | Digital Real Estate Association
REFRESH-INTERVAL;VALUE=DURATION:PT1H
X-Robots-Tag:noindex
X-PUBLISHED-TTL:PT1H
BEGIN:VTIMEZONE
TZID:UTC
BEGIN:STANDARD
TZOFFSETFROM:+0000
TZOFFSETTO:+0000
TZNAME:UTC
DTSTART:20230101T000000
END:STANDARD
END:VTIMEZONE
BEGIN:VEVENT
DTSTART;VALUE=DATE:20241016
DTEND;VALUE=DATE:20241018
DTSTAMP:20260420T105638
CREATED:20240829T094306Z
LAST-MODIFIED:20240829T094306Z
UID:10351-1729036800-1729209599@drea.at
SUMMARY:apti @ ÖGNI Sustainability Symposium & exhibitor area at the closing event in the Hofburg (Invite only)
DESCRIPTION:“SUSTAINABILITY: TURNING INTENTIONS INTO IMPACT!”\nFIRST SUSTAINABILITY SUMMOSIUM OF THE ÖGNI IN VIENNA On October 16 and 17\, 2024\, the Austrian Sustainable Building Council (ÖGNI) will be holding a symposium on sustainability for the first time in its history under the title “Sustainability: Turning Intentions into Impact!” at the Hofburg Palace in Vienna. On October 16\, experts from the entire DACH (Germany-Austria-Switzerland) region will develop practical solutions for selected topics. These will be presented at the closing gala in the Vienna Hofburg on October 17. A high-profile star guest from Hollywood is also expected to attend. On October 17\, 2024 \, the closing event will take place at the Hofburg Palace in Vienna from 18:00. At this event\, the results of the expert rounds will be presented to an audience of 600 decision-makers from the industry. In cooperation with apti\, selected start-ups from the field of sustainability will have the opportunity to showcase their products and services in an exhibitor area. \n 
URL:https://drea.at/en/event/apti-oegni-sustainability-symposium-exhibitor-area-at-the-closing-event-in-the-hofburg-invite-only/
ATTACH;FMTTYPE=image/jpeg:https://drea.at/wp-content/uploads/2024/08/Breakfast-07.05-1.jpg
END:VEVENT
END:VCALENDAR