BEGIN:VCALENDAR
VERSION:2.0
PRODID:-//DREA | Digital Real Estate Association - ECPv6.15.12.2//NONSGML v1.0//EN
CALSCALE:GREGORIAN
METHOD:PUBLISH
X-WR-CALNAME:DREA | Digital Real Estate Association
X-ORIGINAL-URL:https://drea.at/en/
X-WR-CALDESC:Events for DREA | Digital Real Estate Association
REFRESH-INTERVAL;VALUE=DURATION:PT1H
X-Robots-Tag:noindex
X-PUBLISHED-TTL:PT1H
BEGIN:VTIMEZONE
TZID:Europe/Vienna
BEGIN:DAYLIGHT
TZOFFSETFROM:+0100
TZOFFSETTO:+0200
TZNAME:CEST
DTSTART:20240331T010000
END:DAYLIGHT
BEGIN:STANDARD
TZOFFSETFROM:+0200
TZOFFSETTO:+0100
TZNAME:CET
DTSTART:20241027T010000
END:STANDARD
BEGIN:DAYLIGHT
TZOFFSETFROM:+0100
TZOFFSETTO:+0200
TZNAME:CEST
DTSTART:20250330T010000
END:DAYLIGHT
BEGIN:STANDARD
TZOFFSETFROM:+0200
TZOFFSETTO:+0100
TZNAME:CET
DTSTART:20251026T010000
END:STANDARD
BEGIN:DAYLIGHT
TZOFFSETFROM:+0100
TZOFFSETTO:+0200
TZNAME:CEST
DTSTART:20260329T010000
END:DAYLIGHT
BEGIN:STANDARD
TZOFFSETFROM:+0200
TZOFFSETTO:+0100
TZNAME:CET
DTSTART:20261025T010000
END:STANDARD
END:VTIMEZONE
BEGIN:VEVENT
DTSTART;TZID=Europe/Vienna:20250508T160000
DTEND;TZID=Europe/Vienna:20250508T173000
DTSTAMP:20260419T152008
CREATED:20241220T075745Z
LAST-MODIFIED:20250428T092325Z
UID:9700-1746720000-1746725400@drea.at
SUMMARY:Annual General Meeting online
DESCRIPTION:Dear DREA members\, \nour annual general meeting will take place on May 8th via Teams. \nAn invitation & agenda will be sent to you by e-mail. \nWe look forward to your participation. \nYour DREA Team
URL:https://drea.at/en/event/annual-general-meeting-online/
ATTACH;FMTTYPE=image/jpeg:https://drea.at/wp-content/uploads/2024/12/General-meeting.jpg
END:VEVENT
END:VCALENDAR